BEGIN:VCALENDAR
VERSION:2.0
PRODID:-//Revitalizing Downtown Sidney! - ECPv6.15.20//NONSGML v1.0//EN
CALSCALE:GREGORIAN
METHOD:PUBLISH
X-ORIGINAL-URL:https://sidneyalive.org
X-WR-CALDESC:Events for Revitalizing Downtown Sidney!
REFRESH-INTERVAL;VALUE=DURATION:PT1H
X-Robots-Tag:noindex
X-PUBLISHED-TTL:PT1H
BEGIN:VTIMEZONE
TZID:UTC
BEGIN:STANDARD
TZOFFSETFROM:+0000
TZOFFSETTO:+0000
TZNAME:UTC
DTSTART:20210101T000000
END:STANDARD
END:VTIMEZONE
BEGIN:VEVENT
DTSTART;TZID=UTC:20230408T110000
DTEND;TZID=UTC:20230408T120000
DTSTAMP:20260422T062148
CREATED:20230202T005843Z
LAST-MODIFIED:20230202T005843Z
UID:10000033-1680951600-1680955200@sidneyalive.org
SUMMARY:Easter Egg Hunt on the Square
DESCRIPTION:Kids race around the square searching for Easter eggs! \nEvent starts promptly at 11am; we recommend arriving early!
URL:https://sidneyalive.org/eventscalendar/easter-egg-hunt-on-the-square/
LOCATION:Shelby County Court Square\, 100 East Court Street\, Sidney\, OH\, 45365\, United States
ATTACH;FMTTYPE=image/jpeg:https://sidneyalive.org/wp-content/uploads/2023/02/1347-slide1-600.jpg
ORGANIZER;CN="Sidney Alive":MAILTO:office@sidneyalive.org
END:VEVENT
BEGIN:VEVENT
DTSTART;TZID=UTC:20221218T180000
DTEND;TZID=UTC:20221218T200000
DTSTAMP:20260422T062148
CREATED:20221209T220521Z
LAST-MODIFIED:20221209T220712Z
UID:10000009-1671386400-1671393600@sidneyalive.org
SUMMARY:Santa on The Square - Created and sponsored by From Above Aerial\, LLC
DESCRIPTION:Created and sponsored by From Above Aerial\, LLC \n3rd Annual Santa On The Square! Free to general public!
URL:https://sidneyalive.org/eventscalendar/santa-on-the-square/2022-12-18/
LOCATION:Shelby County Court Square\, 100 East Court Street\, Sidney\, OH\, 45365\, United States
CATEGORIES:Community Event Organized by Local Organization/Business
ATTACH;FMTTYPE=image/jpeg:https://sidneyalive.org/wp-content/uploads/2022/12/316950880_504234588404684_4232180469041986510_n.jpg
ORGANIZER;CN="From Above Aerial%2C LLC":MAILTO:aboveaerialohio@gmail.com
END:VEVENT
BEGIN:VEVENT
DTSTART;TZID=UTC:20221204T180000
DTEND;TZID=UTC:20221204T200000
DTSTAMP:20260422T062148
CREATED:20221209T220521Z
LAST-MODIFIED:20221209T220712Z
UID:10000008-1670176800-1670184000@sidneyalive.org
SUMMARY:Santa on The Square - Created and sponsored by From Above Aerial\, LLC
DESCRIPTION:Created and sponsored by From Above Aerial\, LLC \n3rd Annual Santa On The Square! Free to general public!
URL:https://sidneyalive.org/eventscalendar/santa-on-the-square/2022-12-04/
LOCATION:Shelby County Court Square\, 100 East Court Street\, Sidney\, OH\, 45365\, United States
CATEGORIES:Community Event Organized by Local Organization/Business
ATTACH;FMTTYPE=image/jpeg:https://sidneyalive.org/wp-content/uploads/2022/12/316950880_504234588404684_4232180469041986510_n.jpg
ORGANIZER;CN="From Above Aerial%2C LLC":MAILTO:aboveaerialohio@gmail.com
END:VEVENT
BEGIN:VEVENT
DTSTART;TZID=UTC:20221203T130000
DTEND;TZID=UTC:20221203T210000
DTSTAMP:20260422T062148
CREATED:20221107T230641Z
LAST-MODIFIED:20221107T234433Z
UID:10000003-1670072400-1670101200@sidneyalive.org
SUMMARY:Downtown Sidney's Winter Wonderland
DESCRIPTION:Join us for a winter wonderland in Downtown Sidney! \nWinter Wonderland Market – 1:00 p.m. to 5:00 p.m. \nTo register as a craft/food/direct sales vendor\, click HERE \nWinter Wonderland Parade – 7:30PM – PARADE START \nTo enter a unit in the parade\, please click HERE
URL:https://sidneyalive.org/eventscalendar/downtown-sidneys-winter-wonderland/
LOCATION:Shelby County Court Square\, 100 East Court Street\, Sidney\, OH\, 45365\, United States
ATTACH;FMTTYPE=image/png:https://sidneyalive.org/wp-content/uploads/2022/11/105c2-312307257_2162139503964483_4672730117509396790_n.png
ORGANIZER;CN="Sidney Alive":MAILTO:office@sidneyalive.org
END:VEVENT
BEGIN:VEVENT
DTSTART;TZID=UTC:20221123T183000
DTEND;TZID=UTC:20221123T190000
DTSTAMP:20260422T062148
CREATED:20221107T230009Z
LAST-MODIFIED:20221107T230803Z
UID:10000002-1669228200-1669230000@sidneyalive.org
SUMMARY:Downtown Sidney's Grand Illumination
DESCRIPTION:Join us for a great evening in Downtown Sidney! Eat and shop locally and watch all of the holiday lights come on at 6:30 p.m. sharp. \n  \nSanta will be making a special appearance!
URL:https://sidneyalive.org/eventscalendar/downtown-sidneys-grand-illumination/
LOCATION:Shelby County Court Square\, 100 East Court Street\, Sidney\, OH\, 45365\, United States
ATTACH;FMTTYPE=image/jpeg:https://sidneyalive.org/wp-content/uploads/2022/11/e115d-grandillumination2.jpg
ORGANIZER;CN="Sidney Alive":MAILTO:office@sidneyalive.org
END:VEVENT
END:VCALENDAR