BEGIN:VCALENDAR
VERSION:2.0
PRODID:-//Revitalizing Downtown Sidney! - ECPv6.15.20//NONSGML v1.0//EN
CALSCALE:GREGORIAN
METHOD:PUBLISH
X-ORIGINAL-URL:https://sidneyalive.org
X-WR-CALDESC:Events for Revitalizing Downtown Sidney!
REFRESH-INTERVAL;VALUE=DURATION:PT1H
X-Robots-Tag:noindex
X-PUBLISHED-TTL:PT1H
BEGIN:VTIMEZONE
TZID:UTC
BEGIN:STANDARD
TZOFFSETFROM:+0000
TZOFFSETTO:+0000
TZNAME:UTC
DTSTART:20220101T000000
END:STANDARD
END:VTIMEZONE
BEGIN:VTIMEZONE
TZID:America/New_York
BEGIN:DAYLIGHT
TZOFFSETFROM:-0500
TZOFFSETTO:-0400
TZNAME:EDT
DTSTART:20230312T070000
END:DAYLIGHT
BEGIN:STANDARD
TZOFFSETFROM:-0400
TZOFFSETTO:-0500
TZNAME:EST
DTSTART:20231105T060000
END:STANDARD
BEGIN:DAYLIGHT
TZOFFSETFROM:-0500
TZOFFSETTO:-0400
TZNAME:EDT
DTSTART:20240310T070000
END:DAYLIGHT
BEGIN:STANDARD
TZOFFSETFROM:-0400
TZOFFSETTO:-0500
TZNAME:EST
DTSTART:20241103T060000
END:STANDARD
BEGIN:DAYLIGHT
TZOFFSETFROM:-0500
TZOFFSETTO:-0400
TZNAME:EDT
DTSTART:20250309T070000
END:DAYLIGHT
BEGIN:STANDARD
TZOFFSETFROM:-0400
TZOFFSETTO:-0500
TZNAME:EST
DTSTART:20251102T060000
END:STANDARD
BEGIN:DAYLIGHT
TZOFFSETFROM:-0500
TZOFFSETTO:-0400
TZNAME:EDT
DTSTART:20260308T070000
END:DAYLIGHT
BEGIN:STANDARD
TZOFFSETFROM:-0400
TZOFFSETTO:-0500
TZNAME:EST
DTSTART:20261101T060000
END:STANDARD
END:VTIMEZONE
BEGIN:VEVENT
DTSTART;TZID=UTC:20231201T180000
DTEND;TZID=UTC:20231201T180000
DTSTAMP:20260425T070134
CREATED:20230831T201236Z
LAST-MODIFIED:20230831T201236Z
UID:10000371-1701453600-1701453600@sidneyalive.org
SUMMARY:LGBTQ+ Support Group
DESCRIPTION:The Waiting Room Coffee House will be facilitating and hosting an LGBTQ+ Support Group! \nA Space for making connections\, sharing stories\, and empowering community! \nJoin them for an evening of co-creating a supportive and affirming community to celebrate gender diversity! \nThis is open to all teens and adults\, as well as parents and allies!
URL:https://sidneyalive.org/eventscalendar/lgbtq-support-group/2023-12-01/
LOCATION:The Waiting Room Coffee House
CATEGORIES:Downtown Business Events
ATTACH;FMTTYPE=image/jpeg:https://sidneyalive.org/wp-content/uploads/2023/08/LGBTQ.jpg
END:VEVENT
BEGIN:VEVENT
DTSTART;TZID=UTC:20231202T110000
DTEND;TZID=UTC:20231202T110000
DTSTAMP:20260425T070134
CREATED:20230829T190921Z
LAST-MODIFIED:20230829T190921Z
UID:10000119-1701514800-1701514800@sidneyalive.org
SUMMARY:Coffee With Comrades
DESCRIPTION:Connect with fellow veterans and enjoy a cup of coffee!! \n-Where Stories are Shared and Memories are Brewed-
URL:https://sidneyalive.org/eventscalendar/coffee-with-comrades/2023-12-02/
LOCATION:The Waiting Room Coffee House
CATEGORIES:Downtown Business Events
ATTACH;FMTTYPE=image/png:https://sidneyalive.org/wp-content/uploads/2023/08/veteran-coffee.png
END:VEVENT
BEGIN:VEVENT
DTSTART;TZID=UTC:20231202T230000
DTEND;TZID=UTC:20231202T230000
DTSTAMP:20260425T070134
CREATED:20231127T200011Z
LAST-MODIFIED:20231127T200011Z
UID:10000401-1701558000-1701558000@sidneyalive.org
SUMMARY:Saturday Magic the Gathering
DESCRIPTION:“Magic: The Gathering” is not just a card game; it’s a portal to realms of strategy\, fantasy\, and endless possibilities. As a collectible trading card game\, “Magic” lets players become Planeswalkers\, casting spells\, summoning creatures\, and wielding powerful artifacts to outsmart and outmaneuver their opponents. With a vast array of cards representing different spells\, creatures\, and enchantments\, every game is a unique journey into a world where strategic thinking and creativity reign supreme. Whether you’re a seasoned mage or a novice spellcaster\, “Magic: The Gathering” offers an immersive experience that transcends the tabletop\, captivating players in a magical tapestry of competition\, camaraderie\, and fantastical adventure! \nhttps://www.facebook.com/events/1000780717703846/1000780741037177
URL:https://sidneyalive.org/eventscalendar/saturday-magic-the-gathering/2023-12-02/
LOCATION:Cog’s N Gears Game Cafe\, 219 E Court St\, Sidney\, 45365\, United States
CATEGORIES:Downtown Business Events
ATTACH;FMTTYPE=image/gif:https://sidneyalive.org/wp-content/uploads/2023/11/Magic-the-gathering-website-photo.gif
END:VEVENT
BEGIN:VEVENT
DTSTART;TZID=UTC:20231207T183000
DTEND;TZID=UTC:20231207T183000
DTSTAMP:20260425T070134
CREATED:20231130T213853Z
LAST-MODIFIED:20231130T213853Z
UID:10000405-1701973800-1701973800@sidneyalive.org
SUMMARY:Christmas Story Time
DESCRIPTION:Bring your kids in to Ron & Nita’s for a fun filled story and Santa on December 7th at 6:30pm!
URL:https://sidneyalive.org/eventscalendar/christmas-story-time/
LOCATION:Ron & Nita’s\, 132 - 134 S Main Ave\, Sidney\, 45365\, United States
CATEGORIES:Downtown Business Events
ATTACH;FMTTYPE=image/png:https://sidneyalive.org/wp-content/uploads/2023/11/MicrosoftTeams-image-2.png
END:VEVENT
BEGIN:VEVENT
DTSTART;TZID=UTC:20231209T110000
DTEND;TZID=UTC:20231209T110000
DTSTAMP:20260425T070134
CREATED:20230829T190921Z
LAST-MODIFIED:20230829T190921Z
UID:10000120-1702119600-1702119600@sidneyalive.org
SUMMARY:Coffee With Comrades
DESCRIPTION:Connect with fellow veterans and enjoy a cup of coffee!! \n-Where Stories are Shared and Memories are Brewed-
URL:https://sidneyalive.org/eventscalendar/coffee-with-comrades/2023-12-09/
LOCATION:The Waiting Room Coffee House
CATEGORIES:Downtown Business Events
ATTACH;FMTTYPE=image/png:https://sidneyalive.org/wp-content/uploads/2023/08/veteran-coffee.png
END:VEVENT
BEGIN:VEVENT
DTSTART;TZID=UTC:20231209T230000
DTEND;TZID=UTC:20231209T230000
DTSTAMP:20260425T070134
CREATED:20231127T200011Z
LAST-MODIFIED:20231127T200011Z
UID:10000402-1702162800-1702162800@sidneyalive.org
SUMMARY:Saturday Magic the Gathering
DESCRIPTION:“Magic: The Gathering” is not just a card game; it’s a portal to realms of strategy\, fantasy\, and endless possibilities. As a collectible trading card game\, “Magic” lets players become Planeswalkers\, casting spells\, summoning creatures\, and wielding powerful artifacts to outsmart and outmaneuver their opponents. With a vast array of cards representing different spells\, creatures\, and enchantments\, every game is a unique journey into a world where strategic thinking and creativity reign supreme. Whether you’re a seasoned mage or a novice spellcaster\, “Magic: The Gathering” offers an immersive experience that transcends the tabletop\, captivating players in a magical tapestry of competition\, camaraderie\, and fantastical adventure! \nhttps://www.facebook.com/events/1000780717703846/1000780741037177
URL:https://sidneyalive.org/eventscalendar/saturday-magic-the-gathering/2023-12-09/
LOCATION:Cog’s N Gears Game Cafe\, 219 E Court St\, Sidney\, 45365\, United States
CATEGORIES:Downtown Business Events
ATTACH;FMTTYPE=image/gif:https://sidneyalive.org/wp-content/uploads/2023/11/Magic-the-gathering-website-photo.gif
END:VEVENT
BEGIN:VEVENT
DTSTART;TZID=UTC:20231215T183000
DTEND;TZID=UTC:20231215T183000
DTSTAMP:20260425T070134
CREATED:20231129T224410Z
LAST-MODIFIED:20231129T224410Z
UID:10000403-1702665000-1702665000@sidneyalive.org
SUMMARY:Come See Santa
DESCRIPTION:Hold onto your gears\, Sidney! Santa’s taking a steampunk detour to Cogs n Gears on December 15th at 6:30pm! Get ready for a jingle-tastic night of festive fun\, laughter\, and maybe a sprinkle of magical steam. Don’t miss the arrival – it’s going to be one for the books (and cogs)! \nhttps://www.facebook.com/photo?fbid=122121225716082319&set=a.122099035976082319
URL:https://sidneyalive.org/eventscalendar/come-see-santa/
LOCATION:Cog’s N Gears Game Cafe\, 219 E Court St\, Sidney\, 45365\, United States
CATEGORIES:Downtown Business Events
ATTACH;FMTTYPE=image/jpeg:https://sidneyalive.org/wp-content/uploads/2023/11/Santa-at-cogs-n-gears.jpg
END:VEVENT
BEGIN:VEVENT
DTSTART;TZID=UTC:20231216T110000
DTEND;TZID=UTC:20231216T110000
DTSTAMP:20260425T070134
CREATED:20230829T190921Z
LAST-MODIFIED:20230829T190921Z
UID:10000121-1702724400-1702724400@sidneyalive.org
SUMMARY:Coffee With Comrades
DESCRIPTION:Connect with fellow veterans and enjoy a cup of coffee!! \n-Where Stories are Shared and Memories are Brewed-
URL:https://sidneyalive.org/eventscalendar/coffee-with-comrades/2023-12-16/
LOCATION:The Waiting Room Coffee House
CATEGORIES:Downtown Business Events
ATTACH;FMTTYPE=image/png:https://sidneyalive.org/wp-content/uploads/2023/08/veteran-coffee.png
END:VEVENT
BEGIN:VEVENT
DTSTART;TZID=UTC:20231223T110000
DTEND;TZID=UTC:20231223T110000
DTSTAMP:20260425T070134
CREATED:20230829T190921Z
LAST-MODIFIED:20230829T190921Z
UID:10000122-1703329200-1703329200@sidneyalive.org
SUMMARY:Coffee With Comrades
DESCRIPTION:Connect with fellow veterans and enjoy a cup of coffee!! \n-Where Stories are Shared and Memories are Brewed-
URL:https://sidneyalive.org/eventscalendar/coffee-with-comrades/2023-12-23/
LOCATION:The Waiting Room Coffee House
CATEGORIES:Downtown Business Events
ATTACH;FMTTYPE=image/png:https://sidneyalive.org/wp-content/uploads/2023/08/veteran-coffee.png
END:VEVENT
BEGIN:VEVENT
DTSTART;TZID=UTC:20231230T110000
DTEND;TZID=UTC:20231230T110000
DTSTAMP:20260425T070134
CREATED:20230829T190921Z
LAST-MODIFIED:20230829T190921Z
UID:10000123-1703934000-1703934000@sidneyalive.org
SUMMARY:Coffee With Comrades
DESCRIPTION:Connect with fellow veterans and enjoy a cup of coffee!! \n-Where Stories are Shared and Memories are Brewed-
URL:https://sidneyalive.org/eventscalendar/coffee-with-comrades/2023-12-30/
LOCATION:The Waiting Room Coffee House
CATEGORIES:Downtown Business Events
ATTACH;FMTTYPE=image/png:https://sidneyalive.org/wp-content/uploads/2023/08/veteran-coffee.png
END:VEVENT
BEGIN:VEVENT
DTSTART;TZID=UTC:20240106T110000
DTEND;TZID=UTC:20240106T110000
DTSTAMP:20260425T070134
CREATED:20230829T190921Z
LAST-MODIFIED:20230829T190921Z
UID:10000124-1704538800-1704538800@sidneyalive.org
SUMMARY:Coffee With Comrades
DESCRIPTION:Connect with fellow veterans and enjoy a cup of coffee!! \n-Where Stories are Shared and Memories are Brewed-
URL:https://sidneyalive.org/eventscalendar/coffee-with-comrades/2024-01-06/
LOCATION:The Waiting Room Coffee House
CATEGORIES:Downtown Business Events
ATTACH;FMTTYPE=image/png:https://sidneyalive.org/wp-content/uploads/2023/08/veteran-coffee.png
END:VEVENT
BEGIN:VEVENT
DTSTART;TZID=UTC:20240113T110000
DTEND;TZID=UTC:20240113T110000
DTSTAMP:20260425T070134
CREATED:20230829T190921Z
LAST-MODIFIED:20230829T190921Z
UID:10000125-1705143600-1705143600@sidneyalive.org
SUMMARY:Coffee With Comrades
DESCRIPTION:Connect with fellow veterans and enjoy a cup of coffee!! \n-Where Stories are Shared and Memories are Brewed-
URL:https://sidneyalive.org/eventscalendar/coffee-with-comrades/2024-01-13/
LOCATION:The Waiting Room Coffee House
CATEGORIES:Downtown Business Events
ATTACH;FMTTYPE=image/png:https://sidneyalive.org/wp-content/uploads/2023/08/veteran-coffee.png
END:VEVENT
BEGIN:VEVENT
DTSTART;TZID=UTC:20240120T110000
DTEND;TZID=UTC:20240120T110000
DTSTAMP:20260425T070134
CREATED:20230829T190921Z
LAST-MODIFIED:20230829T190921Z
UID:10000126-1705748400-1705748400@sidneyalive.org
SUMMARY:Coffee With Comrades
DESCRIPTION:Connect with fellow veterans and enjoy a cup of coffee!! \n-Where Stories are Shared and Memories are Brewed-
URL:https://sidneyalive.org/eventscalendar/coffee-with-comrades/2024-01-20/
LOCATION:The Waiting Room Coffee House
CATEGORIES:Downtown Business Events
ATTACH;FMTTYPE=image/png:https://sidneyalive.org/wp-content/uploads/2023/08/veteran-coffee.png
END:VEVENT
BEGIN:VEVENT
DTSTART;TZID=UTC:20240127T110000
DTEND;TZID=UTC:20240127T110000
DTSTAMP:20260425T070134
CREATED:20230829T190921Z
LAST-MODIFIED:20230829T190921Z
UID:10000127-1706353200-1706353200@sidneyalive.org
SUMMARY:Coffee With Comrades
DESCRIPTION:Connect with fellow veterans and enjoy a cup of coffee!! \n-Where Stories are Shared and Memories are Brewed-
URL:https://sidneyalive.org/eventscalendar/coffee-with-comrades/2024-01-27/
LOCATION:The Waiting Room Coffee House
CATEGORIES:Downtown Business Events
ATTACH;FMTTYPE=image/png:https://sidneyalive.org/wp-content/uploads/2023/08/veteran-coffee.png
END:VEVENT
BEGIN:VEVENT
DTSTART;TZID=UTC:20240203T110000
DTEND;TZID=UTC:20240203T110000
DTSTAMP:20260425T070134
CREATED:20230829T190921Z
LAST-MODIFIED:20230829T190921Z
UID:10000128-1706958000-1706958000@sidneyalive.org
SUMMARY:Coffee With Comrades
DESCRIPTION:Connect with fellow veterans and enjoy a cup of coffee!! \n-Where Stories are Shared and Memories are Brewed-
URL:https://sidneyalive.org/eventscalendar/coffee-with-comrades/2024-02-03/
LOCATION:The Waiting Room Coffee House
CATEGORIES:Downtown Business Events
ATTACH;FMTTYPE=image/png:https://sidneyalive.org/wp-content/uploads/2023/08/veteran-coffee.png
END:VEVENT
BEGIN:VEVENT
DTSTART;TZID=UTC:20240210T080000
DTEND;TZID=UTC:20240210T170000
DTSTAMP:20260425T070134
CREATED:20240207T024517Z
LAST-MODIFIED:20240207T024607Z
UID:10001059-1707552000-1707584400@sidneyalive.org
SUMMARY:Coffee With Comrades
DESCRIPTION:Connect with fellow veterans and enjoy a cup of coffee!! \n-Where Stories are Shared and Memories are Brewed-
URL:https://sidneyalive.org/eventscalendar/coffee-with-comrades-2/2024-02-10/1/
LOCATION:The Waiting Room Coffee House
CATEGORIES:Downtown Business Events
ATTACH;FMTTYPE=image/png:https://sidneyalive.org/wp-content/uploads/2023/08/veteran-coffee.png
END:VEVENT
BEGIN:VEVENT
DTSTART;TZID=UTC:20240210T110000
DTEND;TZID=UTC:20240210T110000
DTSTAMP:20260425T070134
CREATED:20240207T024517Z
LAST-MODIFIED:20240207T024607Z
UID:10000129-1707562800-1707562800@sidneyalive.org
SUMMARY:Coffee With Comrades
DESCRIPTION:Connect with fellow veterans and enjoy a cup of coffee!! \n-Where Stories are Shared and Memories are Brewed-
URL:https://sidneyalive.org/eventscalendar/coffee-with-comrades-2/2024-02-10/2/
LOCATION:The Waiting Room Coffee House
CATEGORIES:Downtown Business Events
ATTACH;FMTTYPE=image/png:https://sidneyalive.org/wp-content/uploads/2023/08/veteran-coffee.png
END:VEVENT
BEGIN:VEVENT
DTSTART;TZID=UTC:20240527T090000
DTEND;TZID=UTC:20240527T100000
DTSTAMP:20260425T070134
CREATED:20240405T190420Z
LAST-MODIFIED:20240405T190420Z
UID:10001067-1716800400-1716804000@sidneyalive.org
SUMMARY:Memorial Day Program
DESCRIPTION:Northwest corner of Court Square\, Sidney. \nAfter the program we will head to Graceland Cemetery and have a program there also.
URL:https://sidneyalive.org/eventscalendar/memorial-day-program/
LOCATION:Shelby County Court Square\, 100 East Court Street\, Sidney\, OH\, 45365\, United States
CATEGORIES:Community Event Organized by Local Organization/Business,Downtown Business Events
ATTACH;FMTTYPE=image/png:https://sidneyalive.org/wp-content/uploads/2024/04/Memorial-Day-US-Instagram-Post.png
ORGANIZER;CN="Shelby County Veterans Services":MAILTO:chris.north@shelbycountyveterans.org
END:VEVENT
BEGIN:VEVENT
DTSTART;TZID=UTC:20240615T170000
DTEND;TZID=UTC:20240615T230000
DTSTAMP:20260425T070134
CREATED:20231227T005619Z
LAST-MODIFIED:20231227T005619Z
UID:10000420-1718470800-1718492400@sidneyalive.org
SUMMARY:Boots In The Street
DESCRIPTION:Bringing BIG names to the BIG stage in downtown Sidney. Grab your party boots and enjoy three live performances by three popular recording artists. \nGates open at 5:00 p.m. Food stands\, beer & soft drinks available on site. \nGeneral Admission\, VIP\, and Pitt Pass tickets go on sale February 10th and are expected to sell out quickly.
URL:https://sidneyalive.org/eventscalendar/boots-in-the-street-2/
LOCATION:Murphy’s Craft Bar + Kitchen\, 110 E POPLAR ST\, SIDNEY\, OH\, 45365-2987\, United States
CATEGORIES:Community Event Organized by Local Organization/Business,Downtown Business Events
ATTACH;FMTTYPE=image/jpeg:https://sidneyalive.org/wp-content/uploads/2023/12/boots-in-the-street-2024.jpg
ORGANIZER;CN="Boots In The Street":MAILTO:bootsinthestreet@gmail.com
END:VEVENT
BEGIN:VEVENT
DTSTART;TZID=America/New_York:20240719T120000
DTEND;TZID=America/New_York:20240719T140000
DTSTAMP:20260425T070134
CREATED:20240709T201825Z
LAST-MODIFIED:20240709T201825Z
UID:10001076-1721390400-1721397600@sidneyalive.org
SUMMARY:Ashley Himes State Farm - Cookout Party
DESCRIPTION:Free hotdogs\, popcorn\, and drinks\, just stop by the office during lunch time
URL:https://sidneyalive.org/eventscalendar/ashley-himes-state-farm-cookout-party/
LOCATION:Ashley Himes State Farm\, 247 W Court Street\, Sidney\, 45365\, United States
CATEGORIES:Community Event Organized by Local Organization/Business,Downtown Business Events
ATTACH;FMTTYPE=image/jpeg:https://sidneyalive.org/wp-content/uploads/2024/07/ashley-himes-building.jpg
END:VEVENT
BEGIN:VEVENT
DTSTART;TZID=UTC:20240722T190000
DTEND;TZID=UTC:20240722T203000
DTSTAMP:20260425T070134
CREATED:20240405T191102Z
LAST-MODIFIED:20240405T191102Z
UID:10001068-1721674800-1721680200@sidneyalive.org
SUMMARY:Veterans Day at the Shelby County Fair Program
DESCRIPTION:Shelby County Fairgrounds in the yellow entertainment tent. \nVeterans get in free for the whole day. \nOur team will be there starting at 11 am through the program.
URL:https://sidneyalive.org/eventscalendar/veterans-day-at-the-shelby-county-fair-program/
LOCATION:Shelby County Fair Grounds\, 701 S. Highland Ave.\, Sidney\, 45365
CATEGORIES:Community Event Organized by Local Organization/Business,Downtown Business Events
ATTACH;FMTTYPE=image/png:https://sidneyalive.org/wp-content/uploads/2024/04/Pink-Box-Photo-State-Fairs-Instagram-Post.png
ORGANIZER;CN="Shelby County Veterans Services":MAILTO:chris.north@shelbycountyveterans.org
END:VEVENT
BEGIN:VEVENT
DTSTART;TZID=UTC:20240920T072200
DTEND;TZID=UTC:20240920T193600
DTSTAMP:20260425T070134
CREATED:20240405T192305Z
LAST-MODIFIED:20240405T192305Z
UID:10001069-1726816920-1726860960@sidneyalive.org
SUMMARY:Silent Watch
DESCRIPTION:Southwest corner of the Court Square\, Sidney. \nThis event is a silent event. It is to bring awareness to veteran suicide. \nCommunity members stand watch beside an empty casket with a flag draped over it.
URL:https://sidneyalive.org/eventscalendar/silent-watch/
LOCATION:Shelby County Court Square\, 100 East Court Street\, Sidney\, OH\, 45365\, United States
CATEGORIES:Community Event Organized by Local Organization/Business,Downtown Business Events
ATTACH;FMTTYPE=image/jpeg:https://sidneyalive.org/wp-content/uploads/2024/04/120096578_5015266195165084_7683461339802030982_n.jpg
ORGANIZER;CN="Shelby County Veterans Services":MAILTO:chris.north@shelbycountyveterans.org
END:VEVENT
BEGIN:VEVENT
DTSTART;TZID=UTC:20241111T110000
DTEND;TZID=UTC:20241111T120000
DTSTAMP:20260425T070134
CREATED:20240405T193242Z
LAST-MODIFIED:20240405T193242Z
UID:10001070-1731322800-1731326400@sidneyalive.org
SUMMARY:Veterans Day Service
DESCRIPTION:Northwest corner of the Court Square\, Sidney.
URL:https://sidneyalive.org/eventscalendar/veterans-day-service/
LOCATION:Shelby County Court Square\, 100 East Court Street\, Sidney\, OH\, 45365\, United States
CATEGORIES:Community Event Organized by Local Organization/Business,Downtown Business Events
ATTACH;FMTTYPE=image/png:https://sidneyalive.org/wp-content/uploads/2024/04/Beige-Red-Retro-Americana-Veterans-Day-Event-Instagram-Post.png
ORGANIZER;CN="Shelby County Veterans Services":MAILTO:chris.north@shelbycountyveterans.org
END:VEVENT
BEGIN:VEVENT
DTSTART;TZID=America/New_York:20241207T090000
DTEND;TZID=America/New_York:20241207T140000
DTSTAMP:20260425T070134
CREATED:20241204T181046Z
LAST-MODIFIED:20241204T204018Z
UID:10001084-1733562000-1733580000@sidneyalive.org
SUMMARY:Holiday Bazaar and Breakfast with Santa
DESCRIPTION:Holiday Bazaar and breakfast with Santa!
URL:https://sidneyalive.org/eventscalendar/holiday-bazaar-and-breakfast-with-santa/
LOCATION:Sidney Masonic Temple\, 303 E. Poplar St.\, Sidney\, 45365\, United States
CATEGORIES:Downtown Business Events
ATTACH;FMTTYPE=image/png:https://sidneyalive.org/wp-content/uploads/2024/12/HOLIDAY-BAZARR.png
ORGANIZER;CN="Order of Eastern Star":MAILTO:mamapitts@hotmail.com
END:VEVENT
BEGIN:VEVENT
DTSTART;TZID=America/New_York:20241221T120000
DTEND;TZID=America/New_York:20241221T140000
DTSTAMP:20260425T070134
CREATED:20241218T152135Z
LAST-MODIFIED:20241218T152135Z
UID:10001086-1734782400-1734789600@sidneyalive.org
SUMMARY:The Claus at Simply Cozy
DESCRIPTION:Come out and see the Claus at Simply Cozy on Saturday from 12-2. Come shop for those last minute gifts and bring the kids to see Santa and Mrs. Claus! This could be our last event. Don’t miss out. Hope to see you there!
URL:https://sidneyalive.org/eventscalendar/the-claus-at-simply-cozy/
LOCATION:Simply Cozy Boutique\, 310 N. Main Ave.\, Sidney\, 45365\, United States
CATEGORIES:Downtown Business Events,Outside Organizer
ATTACH;FMTTYPE=image/jpeg:https://sidneyalive.org/wp-content/uploads/2024/12/simply-cozy.jpg
END:VEVENT
BEGIN:VEVENT
DTSTART;TZID=America/New_York:20250308T140000
DTEND;TZID=America/New_York:20250308T170000
DTSTAMP:20260425T070134
CREATED:20250218T162911Z
LAST-MODIFIED:20250218T162911Z
UID:10001131-1741442400-1741453200@sidneyalive.org
SUMMARY:Sensory Friendly Movie Night- Shelby County Board of Developmental Disabilities & Wilson Health
DESCRIPTION:Join us for a sensory friendly movie: DogMan! \nFree popcorn and water for the first 300 people. Free giveaways! \nThis is a community event and open to the public!
URL:https://sidneyalive.org/eventscalendar/sensory-friendly-movie-night-shelby-county-board-of-developmental-disabilities-wilson-health/
LOCATION:Sidney Historical Theatre\, Sidney\, OH\, 45365
CATEGORIES:Community Event Organized by Local Organization/Business,Downtown Business Events
ATTACH;FMTTYPE=image/png:https://sidneyalive.org/wp-content/uploads/2025/02/Movie-day.png
ORGANIZER;CN="Shelby County Board of Developmental Disabilities & Wilson Health":MAILTO:jguillozet@shelbydd.org
END:VEVENT
BEGIN:VEVENT
DTSTART;TZID=America/New_York:20250417T113000
DTEND;TZID=America/New_York:20250417T123000
DTSTAMP:20260425T070134
CREATED:20250407T235047Z
LAST-MODIFIED:20250407T235905Z
UID:10001162-1744889400-1744893000@sidneyalive.org
SUMMARY:America 250 - Two Lights for Tomorrow
DESCRIPTION:We ask that the citizens and businesses of Shelby County join us and the country in beginning our America 250 Celebration by commemorating the 250th anniversary of Paul Revere’s ride by lighting two candles or lanterns in the window of your home or business. Let these beams of light represent the dual pillars of America’s legacy: honoring the past while embracing the future. If you want to participate but are unable to light candles or lanterns\, please join us in helping to light up our communities on these evenings in any way you can!
URL:https://sidneyalive.org/eventscalendar/america-250-two-lights-for-tomorrow/2025-04-17/
LOCATION:Every Home and Building in Shelby County
CATEGORIES:Community Event Organized by Local Organization/Business,Downtown Business Events
ATTACH;FMTTYPE=image/jpeg:https://sidneyalive.org/wp-content/uploads/2025/04/Two-Lights-for-Tomorrow-Flyer.jpg
ORGANIZER;CN="Shelby County America 250 Committee":MAILTO:coordinator.schs.oh@gmail.com
END:VEVENT
BEGIN:VEVENT
DTSTART;TZID=America/New_York:20250418T193000
DTEND;TZID=America/New_York:20250418T210000
DTSTAMP:20260425T070134
CREATED:20250407T235047Z
LAST-MODIFIED:20250407T235905Z
UID:10001163-1745004600-1745010000@sidneyalive.org
SUMMARY:America 250 - Two Lights for Tomorrow
DESCRIPTION:We ask that the citizens and businesses of Shelby County join us and the country in beginning our America 250 Celebration by commemorating the 250th anniversary of Paul Revere’s ride by lighting two candles or lanterns in the window of your home or business. Let these beams of light represent the dual pillars of America’s legacy: honoring the past while embracing the future. If you want to participate but are unable to light candles or lanterns\, please join us in helping to light up our communities on these evenings in any way you can!
URL:https://sidneyalive.org/eventscalendar/america-250-two-lights-for-tomorrow/2025-04-18/
LOCATION:Every Home and Building in Shelby County
CATEGORIES:Community Event Organized by Local Organization/Business,Downtown Business Events
ATTACH;FMTTYPE=image/jpeg:https://sidneyalive.org/wp-content/uploads/2025/04/Two-Lights-for-Tomorrow-Flyer.jpg
ORGANIZER;CN="Shelby County America 250 Committee":MAILTO:coordinator.schs.oh@gmail.com
END:VEVENT
BEGIN:VEVENT
DTSTART;TZID=America/New_York:20250419T193000
DTEND;TZID=America/New_York:20250419T210000
DTSTAMP:20260425T070134
CREATED:20250407T235047Z
LAST-MODIFIED:20250407T235905Z
UID:10001164-1745091000-1745096400@sidneyalive.org
SUMMARY:America 250 - Two Lights for Tomorrow
DESCRIPTION:We ask that the citizens and businesses of Shelby County join us and the country in beginning our America 250 Celebration by commemorating the 250th anniversary of Paul Revere’s ride by lighting two candles or lanterns in the window of your home or business. Let these beams of light represent the dual pillars of America’s legacy: honoring the past while embracing the future. If you want to participate but are unable to light candles or lanterns\, please join us in helping to light up our communities on these evenings in any way you can!
URL:https://sidneyalive.org/eventscalendar/america-250-two-lights-for-tomorrow/2025-04-19/
LOCATION:Every Home and Building in Shelby County
CATEGORIES:Community Event Organized by Local Organization/Business,Downtown Business Events
ATTACH;FMTTYPE=image/jpeg:https://sidneyalive.org/wp-content/uploads/2025/04/Two-Lights-for-Tomorrow-Flyer.jpg
ORGANIZER;CN="Shelby County America 250 Committee":MAILTO:coordinator.schs.oh@gmail.com
END:VEVENT
BEGIN:VEVENT
DTSTART;TZID=America/New_York:20250425T130000
DTEND;TZID=America/New_York:20250425T140000
DTSTAMP:20260425T070134
CREATED:20250407T234000Z
LAST-MODIFIED:20250410T144945Z
UID:10001160-1745586000-1745589600@sidneyalive.org
SUMMARY:America 250 - City Of Sidney Tree Dedication
DESCRIPTION:The America 250 Committee of Shelby County invites you to attend the dedication of a White Oak Tree in Commemoration of America’s 250th Anniversary on Arbor Day at Tawawa Park.
URL:https://sidneyalive.org/eventscalendar/america-250-city-of-sidney-tree-dedication/
LOCATION:Tawawa Park\, Gieb Pavilion\, 12 Tawawa Drive Sidney\, OH 45365
CATEGORIES:Community Event Organized by Local Organization/Business,Downtown Business Events
ATTACH;FMTTYPE=image/jpeg:https://sidneyalive.org/wp-content/uploads/2025/04/Tree-Planting-Arbor-Day-FB.jpg
ORGANIZER;CN="Shelby County America 250 Committee":MAILTO:coordinator.schs.oh@gmail.com
END:VEVENT
END:VCALENDAR